BEGIN:VCALENDAR
PRODID:-//Microsoft Corporation//Outlook MIMEDIR//EN
VERSION:2.0
METHOD:PUBLISH
BEGIN:VEVENT
DTSTART:20260428T140000
DTEND:20260428T150000
DESCRIPTION:Tax Resale
LOCATION:Commissioners Courtroom
SUMMARY:Tax Resale Committee
CATEGORIES:MEETING
END:VEVENT
END:VCALENDAR
